BEGIN:VCALENDAR
VERSION:2.0
PRODID:-//Family Nurturing Center - ECPv6.15.20//NONSGML v1.0//EN
CALSCALE:GREGORIAN
METHOD:PUBLISH
X-WR-CALNAME:Family Nurturing Center
X-ORIGINAL-URL:https://familynurturing.org
X-WR-CALDESC:Events for Family Nurturing Center
REFRESH-INTERVAL;VALUE=DURATION:PT1H
X-Robots-Tag:noindex
X-PUBLISHED-TTL:PT1H
BEGIN:VTIMEZONE
TZID:America/New_York
BEGIN:DAYLIGHT
TZOFFSETFROM:-0500
TZOFFSETTO:-0400
TZNAME:EDT
DTSTART:20240310T070000
END:DAYLIGHT
BEGIN:STANDARD
TZOFFSETFROM:-0400
TZOFFSETTO:-0500
TZNAME:EST
DTSTART:20241103T060000
END:STANDARD
BEGIN:DAYLIGHT
TZOFFSETFROM:-0500
TZOFFSETTO:-0400
TZNAME:EDT
DTSTART:20250309T070000
END:DAYLIGHT
BEGIN:STANDARD
TZOFFSETFROM:-0400
TZOFFSETTO:-0500
TZNAME:EST
DTSTART:20251102T060000
END:STANDARD
BEGIN:DAYLIGHT
TZOFFSETFROM:-0500
TZOFFSETTO:-0400
TZNAME:EDT
DTSTART:20260308T070000
END:DAYLIGHT
BEGIN:STANDARD
TZOFFSETFROM:-0400
TZOFFSETTO:-0500
TZNAME:EST
DTSTART:20261101T060000
END:STANDARD
END:VTIMEZONE
BEGIN:VEVENT
DTSTART;VALUE=DATE:20251030
DTEND;VALUE=DATE:20251031
DTSTAMP:20260425T235251
CREATED:20250918T163639Z
LAST-MODIFIED:20251003T213446Z
UID:10001218-1761782400-1761868799@familynurturing.org
SUMMARY:Nurturing Network Meeting
DESCRIPTION:This FREE annual conference and networking event is a chance to connect with other providers\, refresh your professional skills\, and nurture yourself and your community. All those who are currently offering Family\, Fathers’\, and other Nurturing Programs\, as well as those who are interested in learning more about these programs\, are invited to join us.  \nThis year’s Nurturing Network Meeting will be held again in-person at the Publick House Historic Inn & Country Lodge in Sturbridge: On the Common/Route 131\, 277 Main Street\, Sturbridge\, MA 01566. \nThis year’s theme will be “Safety and Wellness\,” with a keynote from Jeanine Fitzgerald\, author of Moving Beyond Survival to Wellness\, and a workshop presentation from Ana Maria Ramos of The Children’s Trust. \nLearn more and register at bit.ly/FNCNNM2025!
URL:https://familynurturing.org/calendar-event/nurturing-network-meeting/
LOCATION:MA
CATEGORIES:Trainings and Technical Assistance
ATTACH;FMTTYPE=image/png:https://familynurturing.org/wp-content/uploads/2025/09/Nurturing-Network-Meeting-Flyer-2025-169.png
ORGANIZER;CN="Paul Melville":MAILTO:pmelville@familynurturing.org
END:VEVENT
BEGIN:VEVENT
DTSTART;TZID=America/New_York:20251030T103000
DTEND;TZID=America/New_York:20251030T120000
DTSTAMP:20260425T235251
CREATED:20250916T215234Z
LAST-MODIFIED:20250916T215234Z
UID:10001195-1761820200-1761825600@familynurturing.org
SUMMARY:Preschool Playgroup
DESCRIPTION:Who: Allston-Brighton families with children 3-4 years old (baby siblings welcome!) \nWhen: Thursdays in October\, 10:30 am – 12 pm \nWhere: Josephine Fiorentino Community Center\, 123 Antwerp Street\, Brighton\, MA 02135 \nWhat: Engaging experiences for caregivers and their children. Group circle time with songs and more hands-on activities. Facilitated in English; all languages welcome. \nQuestions? Call or text Elayne: 617-365-3941; ebaskin@familynurturing.org \nRegistration: Please register online at tfaforms.com/5191674. Our amazing FNC Allston-Brighton facilitators\, Elayne and Sandra\, have planned fun activities for their playgroups this season. Please register for only one playgroup per facilitator.
URL:https://familynurturing.org/calendar-event/preschool-playgroup-4/2025-10-30/
LOCATION:FNC Allston-Brighton\, 640 Washington Street\, Suite 103\, Brighton\, MA\, 02135\, United States
CATEGORIES:Playgroups
ATTACH;FMTTYPE=image/jpeg:https://familynurturing.org/wp-content/uploads/2025/09/IMG_0029-e1758059511589.jpg
ORGANIZER;CN="Elayne Baskin":MAILTO:ebaskin@familynurturing.org
END:VEVENT
BEGIN:VEVENT
DTSTART;TZID=America/New_York:20251031T100000
DTEND;TZID=America/New_York:20251031T120000
DTSTAMP:20260425T235251
CREATED:20250904T163946Z
LAST-MODIFIED:20250918T153643Z
UID:10001066-1761904800-1761912000@familynurturing.org
SUMMARY:Bilingual Playgroup
DESCRIPTION:We will learn songs\, games\, and activities to support your young child’s development. Facilitated in English and Spanish. Aprenderemos canciones\, juegos y actividades para apoyar el desarrollo de tu bebé. Facilitado en inglés y español. \n  \nWhen/cuando: Fridays\, 10 am – 12 pm\, September 12 – November 21. Viernes\, 12 de septiembre – 21 de noviembre\, 10 am – 12 pm \nWhere/dónde: 215-217 Garfield Ave\, Hyde Park\, MA 02136 \nWho/quién: Hyde Park families with children aged 1-4 (siblings welcome). Familias de Hyde Park con niños de 1 a 4 años (hermanos bienvenidos) \nContact to Register/contacto para registrarse: Nora Arara\, narara@familynurturing.org or (857)230-9036 \n 
URL:https://familynurturing.org/calendar-event/bilingual-playgroup/2025-10-31/
LOCATION:FNC Hyde Park\, 215-217 Garfield Avenue\, Hyde Park\, MA\, 02136\, United States
CATEGORIES:Playgroups
ATTACH;FMTTYPE=image/png:https://familynurturing.org/wp-content/uploads/2025/09/Playgroups-1-7.png
END:VEVENT
BEGIN:VEVENT
DTSTART;TZID=America/New_York:20251031T103000
DTEND;TZID=America/New_York:20251031T113000
DTSTAMP:20260425T235251
CREATED:20250916T212329Z
LAST-MODIFIED:20250916T212329Z
UID:10001171-1761906600-1761910200@familynurturing.org
SUMMARY:Outdoor Bilingual Baby/Toddler Playgroup
DESCRIPTION:What: A parent-child playgroup with songs\, games\, and activities to support your young child’s development. Facilitated in English and Spanish. \nAprenderemos canciones\, juegos y actividades para apoyer el desarrollo de tu bebé. \nWhen: Fridays\, 10:30-11:30 AM \nWhere: 640 Washington Street\, Brighton (Outside on the Lawn!) \nWho: Allston-Brighton families with children 0-24 months old \nContact: Sandra McCarthy\, smccarthy@familynurturing.org or 857-230-3523. Please register at tfaforms.com/5182289. \nOur amazing FNC Allston-Brighton facilitators\, Elayne and Sandra\, have planned fun activities for their playgroups this month. Please register for only one playgroup per facilitator.
URL:https://familynurturing.org/calendar-event/outdoor-bilingual-baby-toddler-playgroup-2/2025-10-31/
LOCATION:FNC Allston-Brighton\, 640 Washington Street\, Suite 103\, Brighton\, MA\, 02135\, United States
CATEGORIES:Playgroups
ATTACH;FMTTYPE=image/jpeg:https://familynurturing.org/wp-content/uploads/2025/09/IMG_1697-e1758057724887.jpg
ORGANIZER;CN="Sandra McCarthy":MAILTO:smccarthy@familynurturing.org
END:VEVENT
BEGIN:VEVENT
DTSTART;TZID=America/New_York:20251104T100000
DTEND;TZID=America/New_York:20251104T113000
DTSTAMP:20260425T235251
CREATED:20260105T195704Z
LAST-MODIFIED:20260209T201138Z
UID:10001476-1762250400-1762255800@familynurturing.org
SUMMARY:Wonderful Ones Playgroup
DESCRIPTION:Who: Allston-Brighton families with children 12-24 months (baby siblings welcome!) \nWhen: Tuesdays\, 10-11:30 AM \nWhere: Harvard Ed Portal (224 Western Ave\, Allston; parking in the rear and on the street) \nWhat: Engaging experiences for caregivers and their children. Group circle time with songs and more hands-on activities. Facilitated in English; all languages welcome. \nQuestions? Call or text Elayne: 617-365-3941; ebaskin@familynurturing.org \nRegistration: Please register online at tfaforms.com/5191674. Our amazing FNC Allston-Brighton facilitators\, Elayne and Sandra\, have planned fun activities for their playgroups this season. Please register for only one playgroup per facilitator.
URL:https://familynurturing.org/calendar-event/wonderful-ones-playgroup-2/2025-11-04/
LOCATION:FNC Allston-Brighton\, 640 Washington Street\, Suite 103\, Brighton\, MA\, 02135\, United States
CATEGORIES:Playgroups
ATTACH;FMTTYPE=image/jpeg:https://familynurturing.org/wp-content/uploads/2025/09/IMG_5876-e1758058320335.jpg
ORGANIZER;CN="Elayne Baskin":MAILTO:ebaskin@familynurturing.org
END:VEVENT
BEGIN:VEVENT
DTSTART;TZID=America/New_York:20251104T100000
DTEND;TZID=America/New_York:20251104T120000
DTSTAMP:20260425T235251
CREATED:20250923T174351Z
LAST-MODIFIED:20250923T174351Z
UID:10001415-1762250400-1762257600@familynurturing.org
SUMMARY:Breakthrough Parenting
DESCRIPTION:This 12-week parenting class teaches strategies and techniques for positive childrearing. Learn how to move from struggle to cooperation as a family and gain understanding of your child’s development\, all within a supportive\, compassionate small group setting. \nRegistration for this ongoing class is closed from the second week on.  \nNote that registration for this class must be completed through the DCF Virtual Gateway system. Please do not fill out an FNC intake form for this class. \n\n\n\n\n\n\n\n\n\nFor more information\, contact: Remetrious Rogers\, M.S.\, Patch Coordinator/CBPI\, rrogers@familynurturing.org\, 857-220-2635
URL:https://familynurturing.org/calendar-event/breakthrough-parenting-2-2/2025-11-04/
LOCATION:FNC Dorchester\, 200 Bowdoin Street\, Dorchester\, MA\, 02122\, United States
CATEGORIES:Parenting Education
ATTACH;FMTTYPE=image/jpeg:https://familynurturing.org/wp-content/uploads/2025/09/20250429_162730714_iOS-scaled-e1758648088394.jpg
ORGANIZER;CN="Remetrious Rogers":MAILTO:rrogers@familynurturing.org
END:VEVENT
BEGIN:VEVENT
DTSTART;TZID=America/New_York:20251104T173000
DTEND;TZID=America/New_York:20251104T193000
DTSTAMP:20260425T235251
CREATED:20250923T173704Z
LAST-MODIFIED:20250923T173705Z
UID:10001356-1762277400-1762284600@familynurturing.org
SUMMARY:Nurturing Fathers’ Program™ (Online Program for English Speakers)
DESCRIPTION:The Nurturing Fathers’ Program™ offers men the tools they need to become the fathers they choose to be. Registration is open statewide for this online program conducted in English. \n\nBuild nurturing skills\nUnderstand healthy child development\nDevelop appropriate expectations for children\nPractice discipline with dignity\nLearn from other dads in a nonjudgmental group space\n\nRegistration for this ongoing class is closed from the second week on. \nNote that registration for this class must be completed through the DCF Virtual Gateway system. Please do not fill out an FNC intake form for this class. \nQuestions? Contact John O’Neil: Joneil@familynurturing.org or 617-474-1143 x251
URL:https://familynurturing.org/calendar-event/nurturing-fathers-program-online-program-for-english-speakers-2/2025-11-04/
LOCATION:https://familynurturing.org/calendar-event/nurturing-fathers-program-online-program-for-english-speakers-2/2025-11-04/
CATEGORIES:Parenting Education
ATTACH;FMTTYPE=image/jpeg:https://familynurturing.org/wp-content/uploads/2025/09/6-IMG_9367-scaled-e1758643251214.jpg
ORGANIZER;CN="John O'Neil":MAILTO:joneil@familynurturing.org
END:VEVENT
BEGIN:VEVENT
DTSTART;TZID=America/New_York:20251104T173000
DTEND;TZID=America/New_York:20251104T193000
DTSTAMP:20260425T235251
CREATED:20250923T173638Z
LAST-MODIFIED:20250923T173638Z
UID:10001369-1762277400-1762284600@familynurturing.org
SUMMARY:El Programa para Padres Cariñosos™ - Programa Virtual en Español
DESCRIPTION:El programa para padres cariñosos™ ofrece a los hombres las habilidades que necesitan para convertirse en los padres que desean ser. \n\nCultivar habilidades de crianza\nComprender el desarrollo infantil saludable\nDesarrollar expectativas apropiadas para los niños\nPracticar la disciplina con dignidad\nAprenda de otros papás en un espacio grupal sin prejuicios\n\nLa inscripción está cerrada para esta clase en curso a partir de la segunda semana. \nTenga en cuenta que la inscripción para esta clase debe completarse a través del sistema DCF Virtual Gateway. No complete el formulario de admisión de FNC para esta clase. \nQuestions? Contact John O’Neil: Joneil@familynurturing.org; 617-474-1143 x251
URL:https://familynurturing.org/calendar-event/el-programa-para-padres-carinosos-programa-virtual-en-espanol-2/2025-11-04/
LOCATION:https://familynurturing.org/calendar-event/el-programa-para-padres-carinosos-programa-virtual-en-espanol-2/2025-11-04/
CATEGORIES:Parenting Education
ATTACH;FMTTYPE=image/jpeg:https://familynurturing.org/wp-content/uploads/2025/02/016B551-e1740698438578.jpg
ORGANIZER;CN="Sorel Bertrand":MAILTO:sbertrand@familynurturing.org
END:VEVENT
END:VCALENDAR