BEGIN:VCALENDAR
VERSION:2.0
PRODID:-//Family Nurturing Center - ECPv6.15.20//NONSGML v1.0//EN
CALSCALE:GREGORIAN
METHOD:PUBLISH
X-ORIGINAL-URL:https://familynurturing.org
X-WR-CALDESC:Events for Family Nurturing Center
REFRESH-INTERVAL;VALUE=DURATION:PT1H
X-Robots-Tag:noindex
X-PUBLISHED-TTL:PT1H
BEGIN:VTIMEZONE
TZID:America/New_York
BEGIN:DAYLIGHT
TZOFFSETFROM:-0500
TZOFFSETTO:-0400
TZNAME:EDT
DTSTART:20240310T070000
END:DAYLIGHT
BEGIN:STANDARD
TZOFFSETFROM:-0400
TZOFFSETTO:-0500
TZNAME:EST
DTSTART:20241103T060000
END:STANDARD
BEGIN:DAYLIGHT
TZOFFSETFROM:-0500
TZOFFSETTO:-0400
TZNAME:EDT
DTSTART:20250309T070000
END:DAYLIGHT
BEGIN:STANDARD
TZOFFSETFROM:-0400
TZOFFSETTO:-0500
TZNAME:EST
DTSTART:20251102T060000
END:STANDARD
BEGIN:DAYLIGHT
TZOFFSETFROM:-0500
TZOFFSETTO:-0400
TZNAME:EDT
DTSTART:20260308T070000
END:DAYLIGHT
BEGIN:STANDARD
TZOFFSETFROM:-0400
TZOFFSETTO:-0500
TZNAME:EST
DTSTART:20261101T060000
END:STANDARD
BEGIN:DAYLIGHT
TZOFFSETFROM:-0500
TZOFFSETTO:-0400
TZNAME:EDT
DTSTART:20270314T070000
END:DAYLIGHT
BEGIN:STANDARD
TZOFFSETFROM:-0400
TZOFFSETTO:-0500
TZNAME:EST
DTSTART:20271107T060000
END:STANDARD
END:VTIMEZONE
BEGIN:VEVENT
DTSTART;TZID=America/New_York:20250211T100000
DTEND;TZID=America/New_York:20250211T120000
DTSTAMP:20260421T035942
CREATED:20241210T164628Z
LAST-MODIFIED:20250113T211703Z
UID:10000004-1739268000-1739275200@familynurturing.org
SUMMARY:Breakthrough Parenting: Now Accepting Referrals
DESCRIPTION:This 12-week parenting class teaches strategies and techniques for positive childrearing. Learn how to move from struggle to cooperation as a family and gain understanding of your child’s development\, all within a supportive\, compassionate small group setting. \nPlease note that pre-registration is required for this ongoing program. You can register or refer a participant here.
URL:https://familynurturing.org/calendar-event/breakthrough-parenting/
LOCATION:FNC Dorchester\, 200 Bowdoin Street\, Dorchester\, MA\, 02122\, United States
CATEGORIES:Parenting Education
ATTACH;FMTTYPE=image/jpeg:https://familynurturing.org/wp-content/uploads/2024/12/11052024_Breakthrough_Parenting_Graduation-6-e1733848959159.jpg
ORGANIZER;CN="Remetrious Rogers":MAILTO:rrogers@familynurturing.org
END:VEVENT
BEGIN:VEVENT
DTSTART;TZID=America/New_York:20250429T100000
DTEND;TZID=America/New_York:20250429T120000
DTSTAMP:20260421T035942
CREATED:20250103T223830Z
LAST-MODIFIED:20250103T223830Z
UID:10000133-1745920800-1745928000@familynurturing.org
SUMMARY:Breakthrough Parenting Graduation
DESCRIPTION:At the final session of Breakthrough Parenting\, we celebrate the achievement and growth of all participants with certificates of completion\, a festive meal\, and other treats. Congratulations on your accomplishment\, grads!
URL:https://familynurturing.org/calendar-event/breakthrough-parenting-graduation/
LOCATION:FNC Dorchester\, 200 Bowdoin Street\, Dorchester\, MA\, 02122\, United States
CATEGORIES:Parenting Education
ATTACH;FMTTYPE=image/jpeg:https://familynurturing.org/wp-content/uploads/2024/12/11052024_Breakthrough_Parenting_Graduation-6-e1733848959159.jpg
ORGANIZER;CN="Remetrious Rogers":MAILTO:rrogers@familynurturing.org
END:VEVENT
BEGIN:VEVENT
DTSTART;TZID=America/New_York:20260317T100000
DTEND;TZID=America/New_York:20260317T120000
DTSTAMP:20260421T035942
CREATED:20260310T154926Z
LAST-MODIFIED:20260310T154926Z
UID:10001895-1773741600-1773748800@familynurturing.org
SUMMARY:Breakthrough Parenting
DESCRIPTION:This 12-week parenting class teaches strategies and techniques for positive childrearing. Learn how to move from struggle to cooperation as a family and gain understanding of your child’s development\, all within a supportive\, compassionate small group setting. \nFor more information\, contact: Remetrious Rogers\, M.S.\, Patch Coordinator/CBPI\, rrogers@familynurturing.org\, 857-220-2635. Note that registration for this class must be completed through the DCF Virtual Gateway system. Please do not fill out an FNC intake form for this class.
URL:https://familynurturing.org/calendar-event/breakthrough-parenting-3/2026-03-17/
LOCATION:FNC Dorchester\, 200 Bowdoin Street\, Dorchester\, MA\, 02122\, United States
CATEGORIES:Parenting Education
ATTACH;FMTTYPE=image/jpeg:https://familynurturing.org/wp-content/uploads/2026/03/IMG_3217-scaled-e1773157632663.jpg
ORGANIZER;CN="Remetrious Rogers":MAILTO:rrogers@familynurturing.org
END:VEVENT
BEGIN:VEVENT
DTSTART;TZID=America/New_York:20260324T100000
DTEND;TZID=America/New_York:20260324T120000
DTSTAMP:20260421T035942
CREATED:20260310T154926Z
LAST-MODIFIED:20260310T154926Z
UID:10001896-1774346400-1774353600@familynurturing.org
SUMMARY:Breakthrough Parenting
DESCRIPTION:This 12-week parenting class teaches strategies and techniques for positive childrearing. Learn how to move from struggle to cooperation as a family and gain understanding of your child’s development\, all within a supportive\, compassionate small group setting. \nFor more information\, contact: Remetrious Rogers\, M.S.\, Patch Coordinator/CBPI\, rrogers@familynurturing.org\, 857-220-2635. Note that registration for this class must be completed through the DCF Virtual Gateway system. Please do not fill out an FNC intake form for this class.
URL:https://familynurturing.org/calendar-event/breakthrough-parenting-3/2026-03-24/
LOCATION:FNC Dorchester\, 200 Bowdoin Street\, Dorchester\, MA\, 02122\, United States
CATEGORIES:Parenting Education
ATTACH;FMTTYPE=image/jpeg:https://familynurturing.org/wp-content/uploads/2026/03/IMG_3217-scaled-e1773157632663.jpg
ORGANIZER;CN="Remetrious Rogers":MAILTO:rrogers@familynurturing.org
END:VEVENT
BEGIN:VEVENT
DTSTART;TZID=America/New_York:20260407T100000
DTEND;TZID=America/New_York:20260407T120000
DTSTAMP:20260421T035942
CREATED:20260324T190035Z
LAST-MODIFIED:20260325T162101Z
UID:10001897-1775556000-1775563200@familynurturing.org
SUMMARY:Breakthrough Parenting
DESCRIPTION:This 12-week parenting class teaches strategies and techniques for positive childrearing. Learn how to move from struggle to cooperation as a family and gain understanding of your child’s development\, all within a supportive\, compassionate small group setting. \nFor more information\, contact: Remetrious Rogers\, M.S.\, Patch Coordinator/CBPI\, rrogers@familynurturing.org\, 857-220-2635. Note that registration for this class must be completed through the DCF Virtual Gateway system. Please do not fill out an FNC intake form for this class.
URL:https://familynurturing.org/calendar-event/breakthrough-parenting-3-2/2026-04-07/
LOCATION:FNC Dorchester\, 200 Bowdoin Street\, Dorchester\, MA\, 02122\, United States
CATEGORIES:Parenting Education
ATTACH;FMTTYPE=image/jpeg:https://familynurturing.org/wp-content/uploads/2026/03/IMG_3217-scaled-e1773157632663.jpg
ORGANIZER;CN="Remetrious Rogers":MAILTO:rrogers@familynurturing.org
END:VEVENT
BEGIN:VEVENT
DTSTART;TZID=America/New_York:20260414T100000
DTEND;TZID=America/New_York:20260414T120000
DTSTAMP:20260421T035942
CREATED:20260324T190035Z
LAST-MODIFIED:20260325T162101Z
UID:10001899-1776160800-1776168000@familynurturing.org
SUMMARY:Breakthrough Parenting
DESCRIPTION:This 12-week parenting class teaches strategies and techniques for positive childrearing. Learn how to move from struggle to cooperation as a family and gain understanding of your child’s development\, all within a supportive\, compassionate small group setting. \nFor more information\, contact: Remetrious Rogers\, M.S.\, Patch Coordinator/CBPI\, rrogers@familynurturing.org\, 857-220-2635. Note that registration for this class must be completed through the DCF Virtual Gateway system. Please do not fill out an FNC intake form for this class.
URL:https://familynurturing.org/calendar-event/breakthrough-parenting-3-2/2026-04-14/
LOCATION:FNC Dorchester\, 200 Bowdoin Street\, Dorchester\, MA\, 02122\, United States
CATEGORIES:Parenting Education
ATTACH;FMTTYPE=image/jpeg:https://familynurturing.org/wp-content/uploads/2026/03/IMG_3217-scaled-e1773157632663.jpg
ORGANIZER;CN="Remetrious Rogers":MAILTO:rrogers@familynurturing.org
END:VEVENT
END:VCALENDAR